View In:
ArcGIS JavaScript
ArcGIS Online Map Viewer
ArcGIS Earth
Service Description: J03 (Sulfer Creek Channel) 2018 Eagle Aerial
Name: O_and_M/J03_Eagle2018
Description: J03 (Sulfer Creek Channel) 2018 Eagle Aerial
Single Fused Map Cache: false
Extent:
XMin: 6116815.75
YMin: 2140406.0
XMax: 6120010.5
YMax: 2144059.0
Spatial Reference: 0
(0)
LatestVCSWkid(0)
Initial Extent:
XMin: 6116815.75
YMin: 2140406.0
XMax: 6120010.5
YMax: 2144059.0
Spatial Reference: 0
(0)
LatestVCSWkid(0)
Full Extent:
XMin: 6116815.75
YMin: 2140406.0
XMax: 6120010.5
YMax: 2144059.0
Spatial Reference: 0
(0)
LatestVCSWkid(0)
Pixel Size X: 0.25
Pixel Size Y: 0.25
Band Count: 3
Pixel Type: U8
RasterFunction Infos: {"rasterFunctionInfos": [{
"name": "None",
"description": "",
"help": ""
}]}
Mensuration Capabilities: Basic
Inspection Capabilities:
Has Histograms: true
Has Colormap: false
Has Multi Dimensions : false
Rendering Rule:
Min Scale: 0
Max Scale: 0
Resampling: false
Copyright Text: Eagle Aerial
Service Data Type: esriImageServiceDataTypeRGB
Min Values: 0, 0, 0
Max Values: 255, 255, 255
Mean Values: 108.77253968992, 99.728743570297, 87.414528720856
Standard Deviation Values: 40.064295186444, 36.798503159298, 34.986528082608
Object ID Field:
Fields:
None
Default Mosaic Method: Center
Allowed Mosaic Methods:
SortField:
SortValue: null
Mosaic Operator: First
Default Compression Quality: 75
Default Resampling Method: Bilinear
Max Record Count: null
Max Image Height: 4100
Max Image Width: 15000
Max Download Image Count: null
Max Mosaic Image Count: null
Allow Raster Function: true
Allow Copy: true
Allow Analysis: true
Allow Compute TiePoints: false
Supports Statistics: false
Supports Advanced Queries: false
Use StandardizedQueries: true
Raster Type Infos:
Name: Raster Dataset
Description: Supports all ArcGIS Raster Datasets
Help:
Has Raster Attribute Table: false
Edit Fields Info: null
Ownership Based AccessControl For Rasters: null
Child Resources:
Info
Histograms
Statistics
Key Properties
Legend
Raster Function Infos
Supported Operations:
Export Image
Identify
Measure
Compute Histograms
Compute Statistics Histograms
Get Samples
Compute Class Statistics
Query Boundary
Compute Pixel Location
Compute Angles
Validate
Project