View In:
ArcGIS JavaScript
ArcGIS Online Map Viewer
ArcGIS Earth
Service Description: Trabuco Creek/Holy Jim Debris Flow 1 Meter DEM (elevation in Feet)
Name: O_and_M/Holy_Jim_Debris_Flow_DEM
Description: Trabuco Creek/Holy Jim Debris Flow 1 Meter DEM (elevation in Feet)
Single Fused Map Cache: false
Extent:
XMin: 6146607.219435837
YMin: 2179468.3062662017
XMax: 6184238.454235837
YMax: 2199914.5011462015
Spatial Reference: 102646
(2230)
LatestVCSWkid(0)
Initial Extent:
XMin: 6146607.219435837
YMin: 2179468.3062662017
XMax: 6184238.454235837
YMax: 2199914.5011462015
Spatial Reference: 102646
(2230)
LatestVCSWkid(0)
Full Extent:
XMin: 6146607.219435837
YMin: 2179468.3062662017
XMax: 6184238.454235837
YMax: 2199914.5011462015
Spatial Reference: 102646
(2230)
LatestVCSWkid(0)
Pixel Size X: 3.2808399999999778
Pixel Size Y: 3.280839999999976
Band Count: 1
Pixel Type: F32
RasterFunction Infos: {"rasterFunctionInfos": [
{
"name": "None",
"description": "Make a Raster or Raster Dataset into a Function Raster Dataset.",
"help": ""
},
{
"name": "Shaded_Relief_Blue_to_Red",
"description": "A raster function template.",
"help": ""
},
{
"name": "Color_Shaded_Relief",
"description": "A raster function template.",
"help": ""
},
{
"name": "Hillshade",
"description": "A raster function template.",
"help": ""
}
]}
Mensuration Capabilities: Basic
Inspection Capabilities:
Has Histograms: true
Has Colormap: false
Has Multi Dimensions : false
Rendering Rule:
Min Scale: 0
Max Scale: 0
Copyright Text: OC Survey
Service Data Type: esriImageServiceDataTypeGeneric
Min Values: 0
Max Values: 4064.0258789063
Mean Values: 2021.2948825949
Standard Deviation Values: 747.5883180129
Object ID Field:
Fields:
None
Default Mosaic Method: Center
Allowed Mosaic Methods:
SortField:
SortValue: null
Mosaic Operator: First
Default Compression Quality: 75
Default Resampling Method: Bilinear
Max Record Count: null
Max Image Height: 4100
Max Image Width: 15000
Max Download Image Count: null
Max Mosaic Image Count: null
Allow Raster Function: true
Allow Copy: true
Allow Analysis: true
Allow Compute TiePoints: false
Supports Statistics: false
Supports Advanced Queries: false
Use StandardizedQueries: true
Raster Type Infos:
Name: Raster Dataset
Description: Supports all ArcGIS Raster Datasets
Help:
Has Raster Attribute Table: false
Edit Fields Info: null
Ownership Based AccessControl For Rasters: null
Child Resources:
Info
Histograms
Statistics
Key Properties
Legend
Raster Function Infos
Supported Operations:
Export Image
Identify
Measure
Compute Histograms
Compute Statistics Histograms
Get Samples
Compute Class Statistics
Query Boundary
Compute Pixel Location
Compute Angles
Validate
Project