View In:
ArcGIS JavaScript
ArcGIS Online Map Viewer
ArcGIS Earth
Service Description: 2017 Eagle Aerial: E08 Santa Ana River to Flower St
Name: O_and_M/E08_SARtoFlower_NativeEagle2017
Description: 2017 Eagle Aerial: E08 Santa Ana River to Flower St
Single Fused Map Cache: false
Extent:
XMin: 6062222.25
YMin: 2227104.0
XMax: 6068365.75
YMax: 2228359.5
Spatial Reference: 0
(0)
LatestVCSWkid(0)
Initial Extent:
XMin: 6062222.25
YMin: 2227104.0
XMax: 6068365.75
YMax: 2228359.5
Spatial Reference: 0
(0)
LatestVCSWkid(0)
Full Extent:
XMin: 6062222.25
YMin: 2227104.0
XMax: 6068365.75
YMax: 2228359.5
Spatial Reference: 0
(0)
LatestVCSWkid(0)
Pixel Size X: 0.25
Pixel Size Y: 0.25
Band Count: 3
Pixel Type: U8
RasterFunction Infos: {"rasterFunctionInfos": [
{
"name": "None",
"description": "Make a Raster or Raster Dataset into a Function Raster Dataset.",
"help": ""
},
{
"name": "RGB Composite_Aliso",
"description": "A raster function template.",
"help": ""
}
]}
Mensuration Capabilities: Basic
Inspection Capabilities:
Has Histograms: true
Has Colormap: false
Has Multi Dimensions : false
Rendering Rule:
Min Scale: 0
Max Scale: 0
Resampling: false
Copyright Text: Eagle Aerial 2017
Service Data Type: esriImageServiceDataTypeRGB
Min Values: 0, 0, 0
Max Values: 255, 255, 255
Mean Values: 94.420993781784, 94.833081953014, 76.643169905955
Standard Deviation Values: 53.761496930705, 50.209126128756, 48.155203272005
Object ID Field:
Fields:
None
Default Mosaic Method: Center
Allowed Mosaic Methods:
SortField:
SortValue: null
Mosaic Operator: First
Default Compression Quality: 75
Default Resampling Method: Bilinear
Max Record Count: null
Max Image Height: 4100
Max Image Width: 15000
Max Download Image Count: null
Max Mosaic Image Count: null
Allow Raster Function: true
Allow Copy: true
Allow Analysis: true
Allow Compute TiePoints: false
Supports Statistics: false
Supports Advanced Queries: false
Use StandardizedQueries: true
Raster Type Infos:
Name: Raster Dataset
Description: Supports all ArcGIS Raster Datasets
Help:
Has Raster Attribute Table: false
Edit Fields Info: null
Ownership Based AccessControl For Rasters: null
Child Resources:
Info
Histograms
Statistics
Key Properties
Legend
Raster Function Infos
Supported Operations:
Export Image
Identify
Measure
Compute Histograms
Compute Statistics Histograms
Get Samples
Compute Class Statistics
Query Boundary
Compute Pixel Location
Compute Angles
Validate
Project