View In:
ArcGIS JavaScript
ArcGIS Online Map Viewer
ArcGIS Earth
Service Description: Trabuco Creek Rd Orthopohoto (03.11.2019)
Name: O_and_M/20190311_Trabuco_Creek_Rd_Ortho
Description: Trabuco Creek Rd Orthopohoto (03.11.2019)
Single Fused Map Cache: false
Extent:
XMin: 6154103.8632565
YMin: 2185546.78576069
XMax: 6163820.3125705
YMax: 2190855.50881869
Spatial Reference: 0
(0)
LatestVCSWkid(0)
Initial Extent:
XMin: 6154103.8632565
YMin: 2185546.78576069
XMax: 6163820.3125705
YMax: 2190855.50881869
Spatial Reference: 0
(0)
LatestVCSWkid(0)
Full Extent:
XMin: 6154103.8632565
YMin: 2185546.78576069
XMax: 6163820.3125705
YMax: 2190855.50881869
Spatial Reference: 0
(0)
LatestVCSWkid(0)
Pixel Size X: 0.12111800000000106
Pixel Size Y: 0.12111800000000472
Band Count: 4
Pixel Type: U8
RasterFunction Infos: {"rasterFunctionInfos": [
{
"name": "None",
"description": "Make a Raster or Raster Dataset into a Function Raster Dataset.",
"help": ""
},
{
"name": "RGB Composite_Aliso",
"description": "A raster function template.",
"help": ""
}
]}
Mensuration Capabilities: Basic
Inspection Capabilities:
Has Histograms: false
Has Colormap: false
Has Multi Dimensions : false
Rendering Rule:
Min Scale: 0
Max Scale: 0
Copyright Text: OC Survey
Service Data Type: esriImageServiceDataTypeGeneric
Min Values: N/A
Max Values: N/A
Mean Values: N/A
Standard Deviation Values: N/A
Object ID Field:
Fields:
None
Default Mosaic Method: Center
Allowed Mosaic Methods:
SortField:
SortValue: null
Mosaic Operator: First
Default Compression Quality: 75
Default Resampling Method: Bilinear
Max Record Count: null
Max Image Height: 4100
Max Image Width: 15000
Max Download Image Count: null
Max Mosaic Image Count: null
Allow Raster Function: true
Allow Copy: true
Allow Analysis: true
Allow Compute TiePoints: false
Supports Statistics: false
Supports Advanced Queries: false
Use StandardizedQueries: true
Raster Type Infos:
Name: Raster Dataset
Description: Supports all ArcGIS Raster Datasets
Help:
Has Raster Attribute Table: false
Edit Fields Info: null
Ownership Based AccessControl For Rasters: null
Child Resources:
Info
Statistics
Key Properties
Legend
Raster Function Infos
Supported Operations:
Export Image
Identify
Measure
Compute Histograms
Compute Statistics Histograms
Get Samples
Compute Class Statistics
Query Boundary
Compute Pixel Location
Compute Angles
Validate
Project