View In:
ArcGIS JavaScript
ArcGIS Online Map Viewer
ArcGIS Earth
Service Description: Prima_Zone_1_Phase_D2.tif
Name: OCWR/Prima_Zone_1_Phase_D2
Description: Prima_Zone_1_Phase_D2.tif
Single Fused Map Cache: false
Extent:
XMin: 6139717.60431
YMin: 2120637.6889600116
XMax: 6145790.132549986
YMax: 2125622.81776
Spatial Reference: 102646
(2230)
LatestVCSWkid(0)
Initial Extent:
XMin: 6139717.60431
YMin: 2120637.6889600116
XMax: 6145790.132549986
YMax: 2125622.81776
Spatial Reference: 102646
(2230)
LatestVCSWkid(0)
Full Extent:
XMin: 6139717.60431
YMin: 2120637.6889600116
XMax: 6145790.132549986
YMax: 2125622.81776
Spatial Reference: 102646
(2230)
LatestVCSWkid(0)
Pixel Size X: 0.12146999999971851
Pixel Size Y: 0.1214699999997179
Band Count: 4
Pixel Type: U8
RasterFunction Infos: {"rasterFunctionInfos": [
{
"name": "RGB Aliso Alpha Composite",
"description": "A raster function template.",
"help": ""
},
{
"name": "None",
"description": "",
"help": ""
}
]}
Mensuration Capabilities: Basic
Inspection Capabilities:
Has Histograms: true
Has Colormap: false
Has Multi Dimensions : false
Rendering Rule:
Min Scale: 0
Max Scale: 0
Resampling: false
Copyright Text: OCWR
Service Data Type: esriImageServiceDataTypeGeneric
Min Values: 0, 0, 0, 0
Max Values: 255, 255, 255, 255
Mean Values: 109.98663320448, 107.5448270952, 100.65384230994, 205.40945989935
Standard Deviation Values: 70.01827386465, 67.34342071646, 63.28547006939, 100.92752876747
Object ID Field:
Fields:
None
Default Mosaic Method: Center
Allowed Mosaic Methods:
SortField:
SortValue: null
Mosaic Operator: First
Default Compression Quality: 75
Default Resampling Method: Bilinear
Max Record Count: null
Max Image Height: 4100
Max Image Width: 15000
Max Download Image Count: null
Max Mosaic Image Count: null
Allow Raster Function: true
Allow Copy: true
Allow Analysis: true
Allow Compute TiePoints: false
Supports Statistics: false
Supports Advanced Queries: false
Use StandardizedQueries: true
Raster Type Infos:
Name: Raster Dataset
Description: Supports all ArcGIS Raster Datasets
Help:
Has Raster Attribute Table: false
Edit Fields Info: null
Ownership Based AccessControl For Rasters: null
Child Resources:
Info
Histograms
Statistics
Key Properties
Legend
Raster Function Infos
Supported Operations:
Export Image
Identify
Measure
Compute Histograms
Compute Statistics Histograms
Get Samples
Compute Class Statistics
Query Boundary
Compute Pixel Location
Compute Angles
Validate
Project