View In:
ArcGIS JavaScript
ArcGIS Online Map Viewer
ArcGIS Earth
Service Description: OCWR/Prima_Deschecha_ThermalOrtho_East
Name: OCWR/Prima_Deschecha_ThermalOrtho_East
Description:
Single Fused Map Cache: false
Extent:
XMin: 6143517.50827
YMin: 2123677.2712800005
XMax: 6144491.77159
YMax: 2124664.9752200004
Spatial Reference: 102646
(2230)
LatestVCSWkid(0)
Initial Extent:
XMin: 6143517.50827
YMin: 2123677.2712800005
XMax: 6144491.77159
YMax: 2124664.9752200004
Spatial Reference: 102646
(2230)
LatestVCSWkid(0)
Full Extent:
XMin: 6143517.50827
YMin: 2123677.2712800005
XMax: 6144491.77159
YMax: 2124664.9752200004
Spatial Reference: 102646
(2230)
LatestVCSWkid(0)
Pixel Size X: 0.3632599999999668
Pixel Size Y: 0.36325999999997033
Band Count: 4
Pixel Type: U8
RasterFunction Infos: {"rasterFunctionInfos": [
{
"name": "None",
"description": "Make a Raster or Raster Dataset into a Function Raster Dataset.",
"help": ""
},
{
"name": "RGB Aliso Alpha Composite",
"description": "A raster function template.",
"help": ""
}
]}
Mensuration Capabilities: Basic
Inspection Capabilities:
Has Histograms: true
Has Colormap: false
Has Multi Dimensions : false
Rendering Rule:
Min Scale: 0
Max Scale: 0
Resampling: false
Copyright Text: OC Survey
Service Data Type: esriImageServiceDataTypeGeneric
Min Values: 0, 0, 0, 0
Max Values: 255, 255, 255, 255
Mean Values: 174.05018925289, 117.28252247079, 130.02871759722, 209.67184894103
Standard Deviation Values: 94.975739666677, 110.35679461023, 74.332132811642, 97.488658544973
Object ID Field:
Fields:
None
Default Mosaic Method: Center
Allowed Mosaic Methods:
SortField:
SortValue: null
Mosaic Operator: First
Default Compression Quality: 75
Default Resampling Method: Bilinear
Max Record Count: null
Max Image Height: 4100
Max Image Width: 15000
Max Download Image Count: null
Max Mosaic Image Count: null
Allow Raster Function: true
Allow Copy: true
Allow Analysis: true
Allow Compute TiePoints: false
Supports Statistics: false
Supports Advanced Queries: false
Use StandardizedQueries: true
Raster Type Infos:
Name: Raster Dataset
Description: Supports all ArcGIS Raster Datasets
Help:
Has Raster Attribute Table: false
Edit Fields Info: null
Ownership Based AccessControl For Rasters: null
Child Resources:
Info
Histograms
Statistics
Key Properties
Legend
Raster Function Infos
Supported Operations:
Export Image
Identify
Measure
Compute Histograms
Compute Statistics Histograms
Get Samples
Compute Class Statistics
Query Boundary
Compute Pixel Location
Compute Angles
Validate
Project