View In:
ArcGIS JavaScript
ArcGIS Online Map Viewer
ArcGIS Earth
Service Description: MISC/Eagle2018_Nesting_Area_WMS
Name: MISC/Eagle2018_Nesting_Area_WMS
Description:
Single Fused Map Cache: false
Extent:
XMin: 6035608.259398145
YMin: 2177828.0062805954
XMax: 6041921.509398145
YMax: 2182010.0062805954
Spatial Reference: 3500
(3500)
LatestVCSWkid(0)
Initial Extent:
XMin: 6035608.259398145
YMin: 2177828.0062805954
XMax: 6041921.509398145
YMax: 2182010.0062805954
Spatial Reference: 3500
(3500)
LatestVCSWkid(0)
Full Extent:
XMin: 6035608.259398145
YMin: 2177828.0062805954
XMax: 6041921.509398145
YMax: 2182010.0062805954
Spatial Reference: 3500
(3500)
LatestVCSWkid(0)
Pixel Size X: 0.25
Pixel Size Y: 0.25
Band Count: 3
Pixel Type: U16
RasterFunction Infos: {"rasterFunctionInfos": [{
"name": "None",
"description": "",
"help": ""
}]}
Mensuration Capabilities: Basic
Inspection Capabilities:
Has Histograms: true
Has Colormap: false
Has Multi Dimensions : false
Rendering Rule:
Min Scale: 0
Max Scale: 0
Resampling: false
Copyright Text:
Service Data Type: esriImageServiceDataTypeGeneric
Min Values: 1, 4, 0
Max Values: 255, 255, 255
Mean Values: 154.49545945192, 147.12177432271, 136.61320184408
Standard Deviation Values: 61.069069708922, 61.880629740956, 64.137306172838
Object ID Field:
Fields:
None
Default Mosaic Method: Center
Allowed Mosaic Methods:
SortField:
SortValue: null
Mosaic Operator: First
Default Compression Quality: 75
Default Resampling Method: Bilinear
Max Record Count: null
Max Image Height: 4100
Max Image Width: 15000
Max Download Image Count: null
Max Mosaic Image Count: null
Allow Raster Function: true
Allow Copy: true
Allow Analysis: true
Allow Compute TiePoints: false
Supports Statistics: false
Supports Advanced Queries: false
Use StandardizedQueries: true
Raster Type Infos:
Name: Raster Dataset
Description: Supports all ArcGIS Raster Datasets
Help:
Has Raster Attribute Table: false
Edit Fields Info: null
Ownership Based AccessControl For Rasters: null
Child Resources:
Info
Histograms
Statistics
Key Properties
Legend
Raster Function Infos
Supported Operations:
Export Image
Identify
Measure
Compute Histograms
Compute Statistics Histograms
Get Samples
Compute Class Statistics
Query Boundary
Compute Pixel Location
Compute Angles
Validate
Project