View In:
ArcGIS JavaScript
ArcGIS Online Map Viewer
ArcGIS Earth
Service Description: 2017 Eagle Aerial (Prado Basin)
Name: Infrastructure/Prado_Stueve_2017_Eagle_Aerial
Description: 2017 Eagle Aerial (Prado Basin)
Single Fused Map Cache: false
Extent:
XMin: 6140647.430055849
YMin: 2285228.898831508
XMax: 6147403.541286098
YMax: 2290979.639295976
Spatial Reference: 102646
(2230)
LatestVCSWkid(0)
Initial Extent:
XMin: 6140647.430055849
YMin: 2285228.898831508
XMax: 6147403.541286098
YMax: 2290979.639295976
Spatial Reference: 102646
(2230)
LatestVCSWkid(0)
Full Extent:
XMin: 6140647.430055849
YMin: 2285228.898831508
XMax: 6147403.541286098
YMax: 2290979.639295976
Spatial Reference: 102646
(2230)
LatestVCSWkid(0)
Pixel Size X: 0.49210512275100776
Pixel Size Y: 0.4921051227509859
Band Count: 4
Pixel Type: U8
RasterFunction Infos: {"rasterFunctionInfos": [
{
"name": "None",
"description": "Make a Raster or Raster Dataset into a Function Raster Dataset.",
"help": ""
},
{
"name": "RGB Composite_Aliso",
"description": "A raster function template.",
"help": ""
}
]}
Mensuration Capabilities: Basic
Inspection Capabilities:
Has Histograms: true
Has Colormap: false
Has Multi Dimensions : false
Rendering Rule:
Min Scale: 0
Max Scale: 0
Resampling: false
Copyright Text: Eagle Aerial
Service Data Type: esriImageServiceDataTypeGeneric
Min Values: 0, 0, 0, 255
Max Values: 255, 255, 255, 255
Mean Values: 118.00531749226, 117.68972459695, 112.83440476055, 255
Standard Deviation Values: 51.70192943538, 46.139067134198, 42.823431652932, 0
Object ID Field:
Fields:
None
Default Mosaic Method: Center
Allowed Mosaic Methods:
SortField:
SortValue: null
Mosaic Operator: First
Default Compression Quality: 75
Default Resampling Method: Bilinear
Max Record Count: null
Max Image Height: 4100
Max Image Width: 15000
Max Download Image Count: null
Max Mosaic Image Count: null
Allow Raster Function: true
Allow Copy: true
Allow Analysis: true
Allow Compute TiePoints: false
Supports Statistics: false
Supports Advanced Queries: false
Use StandardizedQueries: true
Raster Type Infos:
Name: Raster Dataset
Description: Supports all ArcGIS Raster Datasets
Help:
Has Raster Attribute Table: false
Edit Fields Info: null
Ownership Based AccessControl For Rasters: null
Child Resources:
Info
Histograms
Statistics
Key Properties
Legend
Raster Function Infos
Supported Operations:
Export Image
Identify
Measure
Compute Histograms
Compute Statistics Histograms
Get Samples
Compute Class Statistics
Query Boundary
Compute Pixel Location
Compute Angles
Validate
Project