View In:
ArcGIS JavaScript
ArcGIS Online Map Viewer
ArcGIS Earth
Service Description: HCA/Chandler_Parcel_20200316_DSM
Name: HCA/Chandler_Parcel_20200316_DSM
Description:
Single Fused Map Cache: false
Extent:
XMin: 6092514.358757086
YMin: 2242867.3837641836
XMax: 6096321.613367086
YMax: 2244752.1161361835
Spatial Reference: 0
(0)
LatestVCSWkid(0)
Initial Extent:
XMin: 6092514.358757086
YMin: 2242867.3837641836
XMax: 6096321.613367086
YMax: 2244752.1161361835
Spatial Reference: 0
(0)
LatestVCSWkid(0)
Full Extent:
XMin: 6092514.358757086
YMin: 2242867.3837641836
XMax: 6096321.613367086
YMax: 2244752.1161361835
Spatial Reference: 0
(0)
LatestVCSWkid(0)
Pixel Size X: 0.14877900000000696
Pixel Size Y: 0.1487789999999907
Band Count: 1
Pixel Type: F32
RasterFunction Infos: {"rasterFunctionInfos": [
{
"name": "None",
"description": "Make a Raster or Raster Dataset into a Function Raster Dataset.",
"help": ""
},
{
"name": "Color_Shaded_Relief",
"description": "A raster function template.",
"help": ""
},
{
"name": "Hillshade",
"description": "A raster function template.",
"help": ""
}
]}
Mensuration Capabilities: Basic
Inspection Capabilities:
Has Histograms: false
Has Colormap: false
Has Multi Dimensions : false
Rendering Rule:
Min Scale: 0
Max Scale: 0
Resampling: false
Copyright Text: OC Survey
Service Data Type: esriImageServiceDataTypeGeneric
Min Values: N/A
Max Values: N/A
Mean Values: N/A
Standard Deviation Values: N/A
Object ID Field:
Fields:
None
Default Mosaic Method: Center
Allowed Mosaic Methods:
SortField:
SortValue: null
Mosaic Operator: First
Default Compression Quality: 75
Default Resampling Method: Bilinear
Max Record Count: null
Max Image Height: 4100
Max Image Width: 15000
Max Download Image Count: null
Max Mosaic Image Count: null
Allow Raster Function: true
Allow Copy: true
Allow Analysis: true
Allow Compute TiePoints: false
Supports Statistics: false
Supports Advanced Queries: false
Use StandardizedQueries: true
Raster Type Infos:
Name: Raster Dataset
Description: Supports all ArcGIS Raster Datasets
Help:
Has Raster Attribute Table: false
Edit Fields Info: null
Ownership Based AccessControl For Rasters: null
Child Resources:
Info
Statistics
Key Properties
Legend
Raster Function Infos
Supported Operations:
Export Image
Identify
Measure
Compute Histograms
Compute Statistics Histograms
Get Samples
Compute Class Statistics
Query Boundary
Compute Pixel Location
Compute Angles
Validate
Project