View In:
ArcGIS JavaScript
ArcGIS Online Map Viewer
ArcGIS Earth
Service Description: 1000 North Kraemer Eagle Aerial 2017
Name: Facilities/NK_2017EagleAerial
Description: 1000 North Kraemer Eagle Aerial 2017
Single Fused Map Cache: false
Extent:
XMin: 6072452.75
YMin: 2255405.75
XMax: 6074775.5
YMax: 2256821.75
Spatial Reference: 0
(0)
LatestVCSWkid(0)
Initial Extent:
XMin: 6072452.75
YMin: 2255405.75
XMax: 6074775.5
YMax: 2256821.75
Spatial Reference: 0
(0)
LatestVCSWkid(0)
Full Extent:
XMin: 6072452.75
YMin: 2255405.75
XMax: 6074775.5
YMax: 2256821.75
Spatial Reference: 0
(0)
LatestVCSWkid(0)
Pixel Size X: 0.25
Pixel Size Y: 0.25
Band Count: 3
Pixel Type: U8
RasterFunction Infos: {"rasterFunctionInfos": [
{
"name": "RGB Composite_No_Data",
"description": "A raster function template.",
"help": ""
},
{
"name": "None",
"description": "",
"help": ""
}
]}
Mensuration Capabilities: Basic
Inspection Capabilities:
Has Histograms: true
Has Colormap: false
Has Multi Dimensions : false
Rendering Rule:
Min Scale: 0
Max Scale: 0
Copyright Text: Eagle Aerial
Service Data Type: esriImageServiceDataTypeRGB
Min Values: 0, 0, 0
Max Values: 255, 255, 255
Mean Values: 112.05776412018, 113.58799339257, 100.21971497387
Standard Deviation Values: 49.678181696503, 49.692187649789, 49.52311084772
Object ID Field:
Fields:
None
Default Mosaic Method: Center
Allowed Mosaic Methods:
SortField:
SortValue: null
Mosaic Operator: First
Default Compression Quality: 75
Default Resampling Method: Bilinear
Max Record Count: null
Max Image Height: 4100
Max Image Width: 15000
Max Download Image Count: null
Max Mosaic Image Count: null
Allow Raster Function: true
Allow Copy: true
Allow Analysis: true
Allow Compute TiePoints: false
Supports Statistics: false
Supports Advanced Queries: false
Use StandardizedQueries: true
Raster Type Infos:
Name: Raster Dataset
Description: Supports all ArcGIS Raster Datasets
Help:
Has Raster Attribute Table: false
Edit Fields Info: null
Ownership Based AccessControl For Rasters: null
Child Resources:
Info
Histograms
Statistics
Key Properties
Legend
Raster Function Infos
Supported Operations:
Export Image
Identify
Measure
Compute Histograms
Compute Statistics Histograms
Get Samples
Compute Class Statistics
Query Boundary
Compute Pixel Location
Compute Angles
Validate
Project