View In:
ArcGIS JavaScript
ArcGIS Online Map Viewer
ArcGIS Earth
Service Description: 1000 North Kraemer Eagle Aerial 2017
Name: Facilities/NK_2016EagleAerial
Description: 1000 North Kraemer Eagle Aerial 2017
Single Fused Map Cache: false
Extent:
XMin: -1.3120251781687224E7
YMin: 4008215.7202483723
XMax: -1.3119406721997105E7
YMax: 4008724.508665949
Spatial Reference: 102100
(3857)
LatestVCSWkid(0)
Initial Extent:
XMin: -1.3120251781687224E7
YMin: 4008215.7202483723
XMax: -1.3119406721997105E7
YMax: 4008724.508665949
Spatial Reference: 102100
(3857)
LatestVCSWkid(0)
Full Extent:
XMin: -1.3120251781687224E7
YMin: 4008215.7202483723
XMax: -1.3119406721997105E7
YMax: 4008724.508665949
Spatial Reference: 102100
(3857)
LatestVCSWkid(0)
Pixel Size X: 0.07620015240033351
Pixel Size Y: 0.07620015240030137
Band Count: 3
Pixel Type: U16
RasterFunction Infos: {"rasterFunctionInfos": [{
"name": "None",
"description": "",
"help": ""
}]}
Mensuration Capabilities: Basic
Inspection Capabilities:
Has Histograms: true
Has Colormap: false
Has Multi Dimensions : false
Rendering Rule:
Min Scale: 0
Max Scale: 0
Copyright Text: Eagle Aerial
Service Data Type: esriImageServiceDataTypeGeneric
Min Values: 18, 17, 0
Max Values: 255, 255, 255
Mean Values: 157.02053675241, 160.99139325031, 146.20798967643
Standard Deviation Values: 45.405084863149, 42.37383182928, 44.378672759607
Object ID Field:
Fields:
None
Default Mosaic Method: Center
Allowed Mosaic Methods:
SortField:
SortValue: null
Mosaic Operator: First
Default Compression Quality: 75
Default Resampling Method: Bilinear
Max Record Count: null
Max Image Height: 4100
Max Image Width: 15000
Max Download Image Count: null
Max Mosaic Image Count: null
Allow Raster Function: true
Allow Copy: true
Allow Analysis: true
Allow Compute TiePoints: false
Supports Statistics: false
Supports Advanced Queries: false
Use StandardizedQueries: true
Raster Type Infos:
Name: Raster Dataset
Description: Supports all ArcGIS Raster Datasets
Help:
Has Raster Attribute Table: false
Edit Fields Info: null
Ownership Based AccessControl For Rasters: null
Child Resources:
Info
Histograms
Statistics
Key Properties
Legend
Raster Function Infos
Supported Operations:
Export Image
Identify
Measure
Compute Histograms
Compute Statistics Histograms
Get Samples
Compute Class Statistics
Query Boundary
Compute Pixel Location
Compute Angles
Validate
Project