View In:
ArcGIS JavaScript
ArcGIS Online Map Viewer
ArcGIS Earth
Service Description: 2018 Eagel Aerial: Santiago Creek at Modjeska Cyn
Name: Engineering/Santiago_Creek_at_Modjeska_Cyn_Eagle_Aerial_2018
Description: 2018 Eagel Aerial: Santiago Creek at Modjeska Cyn
Single Fused Map Cache: false
Extent:
XMin: 6135857.25
YMin: 2205953.0
XMax: 6138263.25
YMax: 2207420.0
Spatial Reference: 102646
(2230)
LatestVCSWkid(0)
Initial Extent:
XMin: 6135857.25
YMin: 2205953.0
XMax: 6138263.25
YMax: 2207420.0
Spatial Reference: 102646
(2230)
LatestVCSWkid(0)
Full Extent:
XMin: 6135857.25
YMin: 2205953.0
XMax: 6138263.25
YMax: 2207420.0
Spatial Reference: 102646
(2230)
LatestVCSWkid(0)
Pixel Size X: 0.25
Pixel Size Y: 0.25
Band Count: 3
Pixel Type: U8
RasterFunction Infos: {"rasterFunctionInfos": [{
"name": "None",
"description": "",
"help": ""
}]}
Mensuration Capabilities: Basic
Inspection Capabilities:
Has Histograms: true
Has Colormap: false
Has Multi Dimensions : false
Rendering Rule:
Min Scale: 0
Max Scale: 0
Copyright Text: Eagle Aerial Imaging
Service Data Type: esriImageServiceDataTypeRGB
Min Values: 5, 13, 0
Max Values: 255, 255, 255
Mean Values: 88.348801348562, 82.502261550979, 68.227759744569
Standard Deviation Values: 37.285543797804, 34.9517363178, 31.528762377014
Object ID Field:
Fields:
None
Default Mosaic Method: Center
Allowed Mosaic Methods:
SortField:
SortValue: null
Mosaic Operator: First
Default Compression Quality: 75
Default Resampling Method: Bilinear
Max Record Count: null
Max Image Height: 4100
Max Image Width: 15000
Max Download Image Count: null
Max Mosaic Image Count: null
Allow Raster Function: true
Allow Copy: true
Allow Analysis: true
Allow Compute TiePoints: false
Supports Statistics: false
Supports Advanced Queries: false
Use StandardizedQueries: true
Raster Type Infos:
Name: Raster Dataset
Description: Supports all ArcGIS Raster Datasets
Help:
Has Raster Attribute Table: false
Edit Fields Info: null
Ownership Based AccessControl For Rasters: null
Child Resources:
Info
Histograms
Statistics
Key Properties
Legend
Raster Function Infos
Supported Operations:
Export Image
Identify
Measure
Compute Histograms
Compute Statistics Histograms
Get Samples
Compute Class Statistics
Query Boundary
Compute Pixel Location
Compute Angles
Validate
Project