View In:
ArcGIS JavaScript
ArcGIS Online Map Viewer
ArcGIS Earth
Service Description: Crawford Canyon Rd Eagle Aerial: 2016
Name: Construction/CCRd_Eagle_Aerial_2016
Description: Crawford Canyon Rd Eagle Aerial: 2016
Single Fused Map Cache: false
Extent:
XMin: 6088737.802109494
YMin: 2228107.0383140766
XMax: 6097610.052109494
YMax: 2233448.7883140766
Spatial Reference: 0
(0)
LatestVCSWkid(0)
Initial Extent:
XMin: 6088737.802109494
YMin: 2228107.0383140766
XMax: 6097610.052109494
YMax: 2233448.7883140766
Spatial Reference: 0
(0)
LatestVCSWkid(0)
Full Extent:
XMin: 6088737.802109494
YMin: 2228107.0383140766
XMax: 6097610.052109494
YMax: 2233448.7883140766
Spatial Reference: 0
(0)
LatestVCSWkid(0)
Pixel Size X: 0.25
Pixel Size Y: 0.25
Band Count: 3
Pixel Type: U16
RasterFunction Infos: {"rasterFunctionInfos": [{
"name": "None",
"description": "",
"help": ""
}]}
Mensuration Capabilities: Basic
Inspection Capabilities:
Has Histograms: true
Has Colormap: false
Has Multi Dimensions : false
Rendering Rule:
Min Scale: 0
Max Scale: 0
Copyright Text: Eagle Aerial
Service Data Type: esriImageServiceDataTypeGeneric
Min Values: 0, 0, 0
Max Values: 255, 255, 255
Mean Values: 99.846743591114, 98.389458054796, 74.094409007307
Standard Deviation Values: 61.125528494391, 56.454283394492, 55.976018506531
Object ID Field:
Fields:
None
Default Mosaic Method: Center
Allowed Mosaic Methods:
SortField:
SortValue: null
Mosaic Operator: First
Default Compression Quality: 75
Default Resampling Method: Bilinear
Max Record Count: null
Max Image Height: 4100
Max Image Width: 15000
Max Download Image Count: null
Max Mosaic Image Count: null
Allow Raster Function: true
Allow Copy: true
Allow Analysis: true
Allow Compute TiePoints: false
Supports Statistics: false
Supports Advanced Queries: false
Use StandardizedQueries: true
Raster Type Infos:
Name: Raster Dataset
Description: Supports all ArcGIS Raster Datasets
Help:
Has Raster Attribute Table: false
Edit Fields Info: null
Ownership Based AccessControl For Rasters: null
Child Resources:
Info
Histograms
Statistics
Key Properties
Legend
Raster Function Infos
Supported Operations:
Export Image
Identify
Measure
Compute Histograms
Compute Statistics Histograms
Get Samples
Compute Class Statistics
Query Boundary
Compute Pixel Location
Compute Angles
Validate
Project