{
 "currentVersion": 11.5,
 "serviceDescription": "Survey/20230914_Hicks_Canyon_AsBuilt_CutFill",
 "name": "Survey/20230914_Hicks_Canyon_AsBuilt_CutFill",
 "description": "",
 "extent": {
  "xmin": 6115895.866,
  "ymin": 2213953,
  "xmax": 6116876.866,
  "ymax": 2214712,
  "spatialReference": {
   "wkid": 102646,
   "latestWkid": 2230,
   "vcsWkid": 5773,
   "latestVcsWkid": 5773
  }
 },
 "initialExtent": {
  "xmin": 6115895.866,
  "ymin": 2213953,
  "xmax": 6116876.866,
  "ymax": 2214712,
  "spatialReference": {
   "wkid": 102646,
   "latestWkid": 2230,
   "vcsWkid": 5773,
   "latestVcsWkid": 5773
  }
 },
 "fullExtent": {
  "xmin": 6115895.866,
  "ymin": 2213953,
  "xmax": 6116876.866,
  "ymax": 2214712,
  "spatialReference": {
   "wkid": 102646,
   "latestWkid": 2230,
   "vcsWkid": 5773,
   "latestVcsWkid": 5773
  }
 },
 "sortableFields": "",
 "heightModelInfo": {
  "heightModel": "gravity_related_height",
  "vertCRS": "EGM96_Geoid",
  "heightUnit": "meter"
 },
 "bandCount": 1,
 "pixelType": "S32",
 "minValues": [
  1
 ],
 "maxValues": [
  1191
 ],
 "meanValues": [
  155.77354310646
 ],
 "stdvValues": [
  273.119321634
 ],
 "serviceProperties": "Center<\/MosaicMethod>First<\/MosaicOperator>true<\/SortAscending><\/LockImageID><\/TileOrderField>0<\/TileOrderBase>0.000000<\/AvgImageSpacingX>0.000000<\/AvgImageSpacingY>0.0<\/ViewPointX>0.0<\/ViewPointY>0.0<\/ViewPointDefShiftX>0.0<\/ViewPointDefShiftY>None<\/CompressionMethod>75<\/CompressionQuality>0.010000<\/CompressionTolerance>Bilinear<\/SamplingMethod><\/ImageServiceProperties><\/ImageServer>",
 "allowedFields": "",
 "hasMultidimensions": false,
 "pixelSizeX": 1,
 "pixelSizeY": 1,
 "meanPixelSize": 0.30480060960121924,
 "datasetFormat": "TIFF",
 "uncompressedSize": 2978316,
 "blockWidth": 128,
 "blockHeight": 128,
 "compressionType": "LZW",
 "bandNames": [
  "Band_1"
 ],
 "allowCopy": true,
 "allowAnalysis": true,
 "itemAccess": false,
 "inspectionCapabilities": "",
 "noDataValue": -2147483647,
 "noDataValues": [
  -2147483647
 ],
 "minPixelSize": 0,
 "maxPixelSize": 0,
 "copyrightText": "OC Survey",
 "serviceDataType": "esriImageServiceDataTypeGeneric",
 "serviceSourceType": "esriImageServiceSourceTypeDataset",
 "objectIdField": "",
 "fields": [],
 "capabilities": "Image,Metadata,Mensuration",
 "defaultMosaicMethod": "Center",
 "allowedMosaicMethods": "",
 "sortField": "",
 "sortValue": null,
 "sortAscending": true,
 "mosaicOperator": "First",
 "defaultCompressionQuality": 75,
 "defaultResamplingMethod": "Bilinear",
 "maxImageHeight": 4100,
 "maxImageWidth": 15000,
 "allowRasterFunction": true,
 "rasterFunctionInfos": [
  {
   "name": "Cut_Fill_Classified",
   "description": "A raster function template.",
   "help": ""
  },
  {
   "name": "None",
   "description": "",
   "help": ""
  }
 ],
 "rasterTypeInfos": [
  {
   "name": "Raster Dataset",
   "description": "Supports all ArcGIS Raster Datasets",
   "help": ""
  }
 ],
 "mensurationCapabilities": "Basic",
 "hasHistograms": true,
 "hasColormap": false,
 "hasRasterAttributeTable": true,
 "minScale": 0,
 "maxScale": 0,
 "exportTilesAllowed": false,
 "supportsStatistics": false,
 "supportsAdvancedQueries": false,
 "editFieldsInfo": null,
 "ownershipBasedAccessControlForRasters": null,
 "allowComputeTiePoints": false,
 "useStandardizedQueries": true,
 "advancedQueryCapabilities": {
  "useStandardizedQueries": true,
  "supportsStatistics": false,
  "supportsOrderBy": false,
  "supportsDistinct": false,
  "supportsPagination": false
 },
 "spatialReference": {
  "wkid": 102646,
  "latestWkid": 2230,
  "vcsWkid": 5773,
  "latestVcsWkid": 5773
 }
}
