{
 "currentVersion": 11.5,
 "serviceDescription": "Parks/20210415_BlackStar_Arch_DSM_ft",
 "name": "Parks/20210415_BlackStar_Arch_DSM_ft",
 "description": "",
 "extent": {
  "xmin": 6124423.45024775,
  "ymin": 2226375.256415244,
  "xmax": 6126651.20024775,
  "ymax": 2228275.506415244,
  "spatialReference": {
   "wkid": 102646,
   "latestWkid": 2230
  }
 },
 "initialExtent": {
  "xmin": 6124423.45024775,
  "ymin": 2226375.256415244,
  "xmax": 6126651.20024775,
  "ymax": 2228275.506415244,
  "spatialReference": {
   "wkid": 102646,
   "latestWkid": 2230
  }
 },
 "fullExtent": {
  "xmin": 6124423.45024775,
  "ymin": 2226375.256415244,
  "xmax": 6126651.20024775,
  "ymax": 2228275.506415244,
  "spatialReference": {
   "wkid": 102646,
   "latestWkid": 2230
  }
 },
 "sortableFields": "",
 "bandCount": 1,
 "pixelType": "F32",
 "minValues": [
  175.76551818848
 ],
 "maxValues": [
  1114.1213378906
 ],
 "meanValues": [
  891.84738532711
 ],
 "stdvValues": [
  63.639563287083
 ],
 "serviceProperties": "Center<\/MosaicMethod>First<\/MosaicOperator>true<\/SortAscending><\/LockImageID><\/TileOrderField>0<\/TileOrderBase>0.000000<\/AvgImageSpacingX>0.000000<\/AvgImageSpacingY>0.0<\/ViewPointX>0.0<\/ViewPointY>0.0<\/ViewPointDefShiftX>0.0<\/ViewPointDefShiftY>None<\/CompressionMethod>75<\/CompressionQuality>0.010000<\/CompressionTolerance>Bilinear<\/SamplingMethod><\/ImageServiceProperties><\/ImageServer>",
 "allowedFields": "",
 "hasMultidimensions": false,
 "pixelSizeX": 0.25,
 "pixelSizeY": 0.25,
 "meanPixelSize": 0.07620015240030481,
 "datasetFormat": "TIFF",
 "uncompressedSize": 270930044,
 "blockWidth": 128,
 "blockHeight": 128,
 "compressionType": "None",
 "bandNames": [
  "Band_1"
 ],
 "allowCopy": true,
 "allowAnalysis": true,
 "itemAccess": false,
 "inspectionCapabilities": "",
 "noDataValue": -3.4028230607370965E38,
 "noDataValues": [
  -3.4028230607370965E38
 ],
 "minPixelSize": 0,
 "maxPixelSize": 0,
 "copyrightText": "OC Survey",
 "serviceDataType": "esriImageServiceDataTypeGeneric",
 "serviceSourceType": "esriImageServiceSourceTypeDataset",
 "objectIdField": "",
 "fields": [],
 "capabilities": "Mensuration,Image,Metadata",
 "defaultMosaicMethod": "Center",
 "allowedMosaicMethods": "",
 "sortField": "",
 "sortValue": null,
 "sortAscending": true,
 "mosaicOperator": "First",
 "defaultCompressionQuality": 75,
 "defaultResamplingMethod": "Bilinear",
 "maxImageHeight": 4100,
 "maxImageWidth": 15000,
 "allowRasterFunction": true,
 "rasterFunctionInfos": [
  {
   "name": "None",
   "description": "Make a Raster or Raster Dataset into a Function Raster Dataset.",
   "help": ""
  },
  {
   "name": "Shaded_Relief_Blue_to_Red",
   "description": "A raster function template.",
   "help": ""
  },
  {
   "name": "Color_Shaded_Relief",
   "description": "A raster function template.",
   "help": ""
  },
  {
   "name": "Elevation_Blue_to_Red",
   "description": "A raster function template.",
   "help": ""
  },
  {
   "name": "Hillshade",
   "description": "A raster function template.",
   "help": ""
  }
 ],
 "rasterTypeInfos": [
  {
   "name": "Raster Dataset",
   "description": "Supports all ArcGIS Raster Datasets",
   "help": ""
  }
 ],
 "mensurationCapabilities": "Basic",
 "hasHistograms": true,
 "hasColormap": false,
 "hasRasterAttributeTable": false,
 "minScale": 0,
 "maxScale": 0,
 "exportTilesAllowed": false,
 "supportsStatistics": false,
 "supportsAdvancedQueries": false,
 "editFieldsInfo": null,
 "ownershipBasedAccessControlForRasters": null,
 "allowComputeTiePoints": false,
 "useStandardizedQueries": true,
 "advancedQueryCapabilities": {
  "useStandardizedQueries": true,
  "supportsStatistics": false,
  "supportsOrderBy": false,
  "supportsDistinct": false,
  "supportsPagination": false
 },
 "spatialReference": {
  "wkid": 102646,
  "latestWkid": 2230
 },
 "resampling": false
}
