{
 "currentVersion": 11.5,
 "serviceDescription": "MISC/Eagle2018_Nesting_Area",
 "name": "MISC/Eagle2018_Nesting_Area",
 "description": "",
 "extent": {
  "xmin": 6035608.259398145,
  "ymin": 2177828.0062805954,
  "xmax": 6041921.509398145,
  "ymax": 2182010.0062805954,
  "spatialReference": {
   "wkid": 3500,
   "latestWkid": 3500
  }
 },
 "initialExtent": {
  "xmin": 6035608.259398145,
  "ymin": 2177828.0062805954,
  "xmax": 6041921.509398145,
  "ymax": 2182010.0062805954,
  "spatialReference": {
   "wkid": 3500,
   "latestWkid": 3500
  }
 },
 "fullExtent": {
  "xmin": 6035608.259398145,
  "ymin": 2177828.0062805954,
  "xmax": 6041921.509398145,
  "ymax": 2182010.0062805954,
  "spatialReference": {
   "wkid": 3500,
   "latestWkid": 3500
  }
 },
 "sortableFields": "",
 "bandCount": 3,
 "pixelType": "U16",
 "minValues": [
  1,
  4,
  0
 ],
 "maxValues": [
  255,
  255,
  255
 ],
 "meanValues": [
  154.49545945192,
  147.12177432271,
  136.61320184408
 ],
 "stdvValues": [
  61.069069708922,
  61.880629740956,
  64.137306172838
 ],
 "serviceProperties": "Center<\/MosaicMethod>First<\/MosaicOperator>true<\/SortAscending><\/LockImageID><\/TileOrderField>0<\/TileOrderBase>0.000000<\/AvgImageSpacingX>0.000000<\/AvgImageSpacingY>0.0<\/ViewPointX>0.0<\/ViewPointY>0.0<\/ViewPointDefShiftX>0.0<\/ViewPointDefShiftY>None<\/CompressionMethod>75<\/CompressionQuality>0.010000<\/CompressionTolerance>Bilinear<\/SamplingMethod><\/ImageServiceProperties><\/ImageServer>",
 "allowedFields": "",
 "hasMultidimensions": false,
 "pixelSizeX": 0.25,
 "pixelSizeY": 0.25,
 "meanPixelSize": 0.07620015240030481,
 "datasetFormat": "TIFF",
 "uncompressedSize": 2534593104,
 "blockWidth": 128,
 "blockHeight": 128,
 "compressionType": "None",
 "bandNames": [
  "Red",
  "Green",
  "Blue"
 ],
 "allowCopy": true,
 "allowAnalysis": true,
 "itemAccess": false,
 "inspectionCapabilities": "",
 "noDataValue": 256,
 "noDataValues": [
  256,
  256,
  256
 ],
 "minPixelSize": 0.06510416666666666,
 "maxPixelSize": 1.736111111111111,
 "copyrightText": "",
 "serviceDataType": "esriImageServiceDataTypeGeneric",
 "serviceSourceType": "esriImageServiceSourceTypeDataset",
 "objectIdField": "",
 "fields": [],
 "capabilities": "Mensuration,Image,Metadata",
 "defaultMosaicMethod": "Center",
 "allowedMosaicMethods": "",
 "sortField": "",
 "sortValue": null,
 "sortAscending": true,
 "mosaicOperator": "First",
 "defaultCompressionQuality": 75,
 "defaultResamplingMethod": "Bilinear",
 "maxImageHeight": 4100,
 "maxImageWidth": 15000,
 "singleFusedMapCache": true,
 "tileInfo": {
  "rows": 128,
  "cols": 128,
  "dpi": 96,
  "format": "MIXED",
  "compressionQuality": 75,
  "origin": {
   "x": -118608900,
   "y": 1.5908159999999997E8
  },
  "spatialReference": {
   "wkid": 3500,
   "latestWkid": 3500
  },
  "lods": [
   {
    "level": 0,
    "resolution": 1.736111111111111,
    "scale": 2000
   },
   {
    "level": 1,
    "resolution": 0.8680555555555555,
    "scale": 1000
   },
   {
    "level": 2,
    "resolution": 0.43402777777777773,
    "scale": 500
   },
   {
    "level": 3,
    "resolution": 0.21701388888888887,
    "scale": 250
   },
   {
    "level": 4,
    "resolution": 0.10850694444444443,
    "scale": 125
   },
   {
    "level": 5,
    "resolution": 0.06510416666666666,
    "scale": 75
   },
   {
    "level": 6,
    "resolution": 0.026041666666666664,
    "scale": 30
   },
   {
    "level": 7,
    "resolution": 0.008680555555555556,
    "scale": 10
   }
  ]
 },
 "storageInfo": {
  "storageFormat": "esriMapCacheStorageModeCompactV2",
  "packetSize": 128
 },
 "cacheType": "Map",
 "allowRasterFunction": true,
 "rasterFunctionInfos": [
  {
   "name": "None",
   "description": "",
   "help": ""
  }
 ],
 "rasterTypeInfos": [
  {
   "name": "Raster Dataset",
   "description": "Supports all ArcGIS Raster Datasets",
   "help": ""
  }
 ],
 "mensurationCapabilities": "Basic",
 "hasHistograms": true,
 "hasColormap": false,
 "hasRasterAttributeTable": false,
 "minScale": 2000,
 "maxScale": 75,
 "exportTilesAllowed": false,
 "supportsStatistics": false,
 "supportsAdvancedQueries": false,
 "editFieldsInfo": null,
 "ownershipBasedAccessControlForRasters": null,
 "allowComputeTiePoints": false,
 "useStandardizedQueries": true,
 "advancedQueryCapabilities": {
  "useStandardizedQueries": true,
  "supportsStatistics": false,
  "supportsOrderBy": false,
  "supportsDistinct": false,
  "supportsPagination": false
 },
 "spatialReference": {
  "wkid": 3500,
  "latestWkid": 3500
 },
 "resampling": false
}
