<?xml version="1.0" encoding="UTF-8" standalone="no"?>
<metadata xml:lang="en">
<Esri>
<CreaDate>20180827</CreaDate>
<CreaTime>14172100</CreaTime>
<ArcGISFormat>1.0</ArcGISFormat>
<SyncOnce>FALSE</SyncOnce>
<DataProperties>
<itemProps>
<itemName Sync="TRUE">OCFloodHazardAreas</itemName>
<nativeExtBox>
<westBL Sync="TRUE">-13149037.942119</westBL>
<eastBL Sync="TRUE">-13070337.952115</eastBL>
<southBL Sync="TRUE">3946798.481000</southBL>
<northBL Sync="TRUE">4021778.481000</northBL>
<exTypeCode Sync="TRUE">1</exTypeCode>
</nativeExtBox>
<imsContentType Sync="TRUE">002</imsContentType>
</itemProps>
<coordRef>
<type Sync="TRUE">Projected</type>
<geogcsn Sync="TRUE">GCS_WGS_1984</geogcsn>
<csUnits Sync="TRUE">Linear Unit: Meter (1.000000)</csUnits>
<projcsn Sync="TRUE">WGS_1984_Web_Mercator_Auxiliary_Sphere</projcsn>
<peXml Sync="TRUE">&lt;ProjectedCoordinateSystem xsi:type='typens:ProjectedCoordinateSystem' xmlns:xsi='http://www.w3.org/2001/XMLSchema-instance' xmlns:xs='http://www.w3.org/2001/XMLSchema' xmlns:typens='http://www.esri.com/schemas/ArcGIS/3.6.0'&gt;&lt;WKT&gt;PROJCS[&amp;quot;WGS_1984_Web_Mercator_Auxiliary_Sphere&amp;quot;,GEOGCS[&amp;quot;GCS_WGS_1984&amp;quot;,DATUM[&amp;quot;D_WGS_1984&amp;quot;,SPHEROID[&amp;quot;WGS_1984&amp;quot;,6378137.0,298.257223563]],PRIMEM[&amp;quot;Greenwich&amp;quot;,0.0],UNIT[&amp;quot;Degree&amp;quot;,0.0174532925199433]],PROJECTION[&amp;quot;Mercator_Auxiliary_Sphere&amp;quot;],PARAMETER[&amp;quot;False_Easting&amp;quot;,0.0],PARAMETER[&amp;quot;False_Northing&amp;quot;,0.0],PARAMETER[&amp;quot;Central_Meridian&amp;quot;,0.0],PARAMETER[&amp;quot;Standard_Parallel_1&amp;quot;,0.0],PARAMETER[&amp;quot;Auxiliary_Sphere_Type&amp;quot;,0.0],UNIT[&amp;quot;Meter&amp;quot;,1.0],AUTHORITY[&amp;quot;EPSG&amp;quot;,3857]]&lt;/WKT&gt;&lt;XOrigin&gt;-20037700&lt;/XOrigin&gt;&lt;YOrigin&gt;-30241100&lt;/YOrigin&gt;&lt;XYScale&gt;148923141.92838538&lt;/XYScale&gt;&lt;ZOrigin&gt;-100000&lt;/ZOrigin&gt;&lt;ZScale&gt;10000&lt;/ZScale&gt;&lt;MOrigin&gt;-100000&lt;/MOrigin&gt;&lt;MScale&gt;10000&lt;/MScale&gt;&lt;XYTolerance&gt;0.001&lt;/XYTolerance&gt;&lt;ZTolerance&gt;0.001&lt;/ZTolerance&gt;&lt;MTolerance&gt;0.001&lt;/MTolerance&gt;&lt;HighPrecision&gt;true&lt;/HighPrecision&gt;&lt;WKID&gt;102100&lt;/WKID&gt;&lt;LatestWKID&gt;3857&lt;/LatestWKID&gt;&lt;/ProjectedCoordinateSystem&gt;</peXml>
</coordRef>
<RasterProperties>
<General>
<PixelDepth Sync="TRUE">8</PixelDepth>
<HasColormap Sync="TRUE">FALSE</HasColormap>
<CompressionType Sync="TRUE">None</CompressionType>
<NumBands Sync="TRUE">1</NumBands>
<Format Sync="TRUE">AMD</Format>
<HasPyramids Sync="TRUE">TRUE</HasPyramids>
<SourceType Sync="TRUE">continuous</SourceType>
<PixelType Sync="TRUE">unsigned integer</PixelType>
<NoDataValue Sync="TRUE">255</NoDataValue>
</General>
<Properties>
<DataType Sync="TRUE">Thematic</DataType>
<MaxCellSize Sync="TRUE">5760000</MaxCellSize>
<LowCellSize Sync="TRUE">10</LowCellSize>
<HighCellSize Sync="TRUE">115200</HighCellSize>
<_docversion_ Sync="TRUE">9</_docversion_>
<AllowedFields Sync="TRUE">Name,MinPS,MaxPS,LowPS,HighPS,Tag,GroupName,ProductName,CenterX,CenterY,ZOrder,Shape_Length,Shape_Area</AllowedFields>
<AvailableMosaicMethods Sync="TRUE">NorthWest,Center,LockRaster,ByAttribute,Nadir,Viewpoint,Seamline,None</AvailableMosaicMethods>
<AvailableCompressionMethods Sync="TRUE">None,JPEG,LZ77,LERC</AvailableCompressionMethods>
<AvailableItemMetadataLevels Sync="TRUE">None,Basic,Full</AvailableItemMetadataLevels>
<MaxImageHeight Sync="TRUE">100000</MaxImageHeight>
<MaxImageWidth Sync="TRUE">100000</MaxImageWidth>
<MaxRecordCount Sync="TRUE">1000</MaxRecordCount>
<MaxDownloadImageCount Sync="TRUE">0</MaxDownloadImageCount>
<MaxDownloadSizeLimit Sync="TRUE">2048</MaxDownloadSizeLimit>
<MaxMosaicImageCount Sync="TRUE">40</MaxMosaicImageCount>
<DefaultCompressionQuality Sync="TRUE">75</DefaultCompressionQuality>
<DefaultCompressionTolerance Sync="TRUE">0.01</DefaultCompressionTolerance>
<BlendWidth Sync="TRUE">10</BlendWidth>
<ViewpointSpacingX Sync="TRUE">600</ViewpointSpacingX>
<ViewpointSpacingY Sync="TRUE">300</ViewpointSpacingY>
<AllowedItemMetadata Sync="TRUE">Basic</AllowedItemMetadata>
<DefaultResamplingMethod Sync="TRUE">0</DefaultResamplingMethod>
<AllowedMosaicMethods Sync="TRUE">ByAttribute,NorthWest,Center,LockRaster,Nadir,Viewpoint,Seamline,None</AllowedMosaicMethods>
<AllowedCompressions Sync="TRUE">LZ77,None</AllowedCompressions>
<AllowedMensurationCapabilities Sync="TRUE">None</AllowedMensurationCapabilities>
<AvailableMensurationCapabilities Sync="TRUE">None,Basic,Base-Top Height,Top-Top Shadow Height,Base-Top Shadow Height,3D</AvailableMensurationCapabilities>
<ClipToBoundary Sync="TRUE">0</ClipToBoundary>
<FootprintMayContainNoData Sync="TRUE">-1</FootprintMayContainNoData>
<CellSizeTolerance Sync="TRUE">0.8</CellSizeTolerance>
<MinimumPixelContribution Sync="TRUE">1</MinimumPixelContribution>
<BandDefinitionKeyword Sync="TRUE">NONE</BandDefinitionKeyword>
<ClipToFootprint Sync="TRUE">0</ClipToFootprint>
<ApplyColorCorrection Sync="TRUE">0</ApplyColorCorrection>
<SortAscending Sync="TRUE">-1</SortAscending>
<MosaicOperator Sync="TRUE">1</MosaicOperator>
<UseTime Sync="TRUE">0</UseTime>
<BlendWidthUnits Sync="TRUE">1</BlendWidthUnits>
<SortField Sync="TRUE">ZOrder</SortField>
<SortValue Sync="TRUE">0</SortValue>
<TimeStamp.RemoveItems Sync="TRUE">44487.6196549653</TimeStamp.RemoveItems>
<TimeStamp.UpdateExtent Sync="TRUE">44487.6214478009</TimeStamp.UpdateExtent>
<ClipOverviewsToFootprint Sync="TRUE">0</ClipOverviewsToFootprint>
<PixelCacheLocation Sync="FALSE">withheld</PixelCacheLocation>
<AvailableFields Sync="TRUE">Name,MinPS,MaxPS,LowPS,HighPS,Tag,GroupName,ProductName,CenterX,CenterY,ZOrder,Shape_Length,Shape_Area</AvailableFields>
<SortableFields Sync="TRUE">MinPS,MaxPS,LowPS,HighPS,CenterX,CenterY,ZOrder,Shape_Length,Shape_Area</SortableFields>
<HasDodgingTable Sync="TRUE">0</HasDodgingTable>
<UseRange Sync="TRUE">0</UseRange>
</Properties>
<Functions Sync="TRUE">
<Function Description="Performs on-the-fly mosaic on a raster catalog." Name="Mosaic Function">
</Function>
</Functions>
</RasterProperties>
</DataProperties>
<SyncDate>20260310</SyncDate>
<SyncTime>12521400</SyncTime>
<ModDate>20260310</ModDate>
<ModTime>14352900</ModTime>
<scaleRange>
<minScale>500000</minScale>
<maxScale>5000</maxScale>
</scaleRange>
<ArcGISProfile>ItemDescription</ArcGISProfile>
<Service Sync="TRUE">USA_Flood_Hazard_Areas</Service>
<ServiceType Sync="TRUE">image</ServiceType>
</Esri>
<dataIdInfo>
<dataLang>
<languageCode Sync="TRUE" value="eng">
</languageCode>
<countryCode Sync="TRUE" value="USA">
</countryCode>
</dataLang>
<idCitation>
<resTitle Sync="FALSE">OCFloodHazardAreas</resTitle>
<presForm>
<PresFormCd Sync="TRUE" value="011">
</PresFormCd>
</presForm>
</idCitation>
<spatRpType>
<SpatRepTypCd Sync="TRUE" value="002">
</SpatRepTypCd>
</spatRpType>
<dataExt>
<geoEle>
<GeoBndBox esriExtentType="search">
<exTypeCode Sync="TRUE">1</exTypeCode>
<westBL Sync="TRUE">-118.119818</westBL>
<eastBL Sync="TRUE">-117.412844</eastBL>
<northBL Sync="TRUE">33.947677</northBL>
<southBL Sync="TRUE">33.387100</southBL>
</GeoBndBox>
</geoEle>
</dataExt>
<idPurp>Areas of potential flood hazard identified from FEMA National Flood Hazard Layer, for Orange County, California</idPurp>
<idAbs>&lt;div style='text-align:Left;'&gt;&lt;div&gt;&lt;div&gt;&lt;p&gt;&lt;span&gt;The Federal Emergency Management Agency (FEMA) produces Flood Insurance Rate maps and identifies Special Flood Hazard Areas as part of the National Flood Insurance Program's floodplain management. Special Flood Hazard Areas have regulations that include the mandatory purchase of flood insurance for holders of federally regulated mortgages. In addition, this layer can help planners and firms avoid areas of flood risk and also avoid additional cost to carry insurance for certain planned activities.&lt;/span&gt;&lt;/p&gt;&lt;p&gt;&lt;span&gt;This layer is derived from the May 7, 2025 version Flood Insurance Rate Map feature class S_FLD_HAZ_AR. The vector data were then flagged with an index of 94 classes, representing a unique combination of values displayed by three renderers. (In three resolutions the three renderers make nine processing templates.) Repair Geometry was run on the set of features, then the features were rasterized using the 94 class index at a resolutions of 10, 30, and 90 meters, using the Polygon to Raster tool and the "MAXIMUM_COMBINED_AREA" option. &lt;/span&gt;&lt;/p&gt;&lt;p&gt;&lt;span&gt;Projection: Web Mercator Auxiliary Sphere&lt;/span&gt;&lt;/p&gt;&lt;p&gt;&lt;span&gt;Data Coordinate System: USA Contiguous Albers Equal Area Conic USGS version (contiguous US, Puerto Rico, US Virgin Islands), WGS 1984 Albers (Alaska), Hawaii Albers Equal Area Conic (Hawaii), Western Pacific Albers Equal Area Conic (Guam, Northern Mariana Islands, and American Samoa)&lt;/span&gt;&lt;/p&gt;&lt;p&gt;&lt;span&gt;Cell Sizes: 10 meters (default), 30 meters, and 90 meters&lt;/span&gt;&lt;/p&gt;&lt;p&gt;&lt;span&gt;Data Date: May 7, 2025; Version: 2026.1, Updated: March 2026&lt;/span&gt;&lt;/p&gt;&lt;/div&gt;&lt;/div&gt;&lt;/div&gt;</idAbs>
<idCredit>Dr. Kostas Alexandridis, GISP, Data Scientist, OC Public Works, OC Survey Geospatial Services for the Orange County data and project extent processing. Original data from FEMA Flood Insurance Rate Maps, and ESRI Living Atlas.</idCredit>
<searchKeys>
<keyword>Orange County</keyword>
<keyword>California</keyword>
<keyword>flood zone</keyword>
<keyword>flood hazard</keyword>
<keyword>hazard</keyword>
<keyword>sfha</keyword>
<keyword>flood zones</keyword>
<keyword>100-year flood</keyword>
<keyword>500-year flood</keyword>
<keyword>flood risk</keyword>
<keyword>floodplain</keyword>
<keyword>floodplains</keyword>
<keyword>FEMA</keyword>
<keyword>NFHL</keyword>
<keyword>flood plain</keyword>
<keyword>DFIRM</keyword>
<keyword>special flood hazard area</keyword>
<keyword>flood insurance</keyword>
<keyword>landscape hazards</keyword>
<keyword>flooding</keyword>
</searchKeys>
<envirDesc Sync="FALSE">Esri ArcGIS 13.6.0.59527</envirDesc>
<resConst>
<Consts>
<useLimit>&lt;div style='text-align:Left;'&gt;&lt;div&gt;&lt;div&gt;&lt;p&gt;&lt;span&gt;The feed data and associated resources (maps, apps, endpoints) can be used under a &amp;lt;a href="https://creativecommons.org/licenses/by-sa/3.0/" target="_blank"&amp;gt;Creative Commons CC-SA-BY&amp;lt;/a&amp;gt; License, providing attribution to OC Public Works, OC Survey Geospatial Services. &amp;lt;div&amp;gt;&amp;lt;br /&amp;gt;&amp;lt;/div&amp;gt;&amp;lt;div&amp;gt;We make every effort to provide the most accurate and up-to-date data and information. Nevertheless the data feed is provided, 'as is' and OC Public Work's standard &amp;lt;a href="https://www.ocgov.com/contact-county/disclaimer" target="_blank"&amp;gt;Disclaimer&amp;lt;/a&amp;gt; applies.&amp;lt;/div&amp;gt;&amp;lt;div&amp;gt;&amp;lt;br /&amp;gt;&amp;lt;/div&amp;gt;&amp;lt;div&amp;gt;For any inquiries, suggestions or questions, please contact:&amp;lt;/div&amp;gt;&amp;lt;div&amp;gt;&amp;lt;br /&amp;gt;&amp;lt;/div&amp;gt;&amp;lt;div style="text-align:center;"&amp;gt;&amp;lt;a href="https://www.linkedin.com/in/ktalexan/" target="_blank"&amp;gt;&amp;lt;b&amp;gt;Dr. Kostas Alexandridis, GISP&amp;lt;/b&amp;gt;&amp;lt;/a&amp;gt;&amp;lt;br /&amp;gt;&amp;lt;/div&amp;gt;&amp;lt;div style="text-align:center;"&amp;gt;GIS Analyst | Spatial Complex Systems Scientist&amp;lt;/div&amp;gt;&amp;lt;div style="text-align:center;"&amp;gt;OC Public Works/OC Survey Geospatial Applications&amp;lt;/div&amp;gt;&amp;lt;div style="text-align:center;"&amp;gt;&amp;lt;div&amp;gt;601 N. Ross Street, P.O. Box 4048, Santa Ana, CA 92701&amp;lt;/div&amp;gt;&amp;lt;div&amp;gt;Email: &amp;lt;a href="mailto:kostas.alexandridis@ocpw.ocgov.com" target="_blank"&amp;gt;kostas.alexandridis@ocpw.ocgov.com&amp;lt;/a&amp;gt; | Phone: (714) 967-0826&amp;lt;/div&amp;gt;&amp;lt;/div&lt;/span&gt;&lt;/p&gt;&lt;/div&gt;&lt;/div&gt;&lt;/div&gt;</useLimit>
</Consts>
</resConst>
</dataIdInfo>
<mdLang>
<languageCode Sync="TRUE" value="eng">
</languageCode>
<countryCode Sync="TRUE" value="USA">
</countryCode>
</mdLang>
<refSysInfo>
<RefSystem>
<refSysID>
<identCode Sync="TRUE" code="3857">
</identCode>
<idCodeSpace Sync="TRUE">EPSG</idCodeSpace>
<idVersion Sync="TRUE">6.18.3(9.3.1.2)</idVersion>
</refSysID>
</RefSystem>
</refSysInfo>
<spatRepInfo>
<Georect>
<cellGeo>
<CellGeoCd Sync="TRUE" value="002">
</CellGeoCd>
</cellGeo>
<numDims Sync="TRUE">2</numDims>
<tranParaAv Sync="TRUE">1</tranParaAv>
<chkPtAv Sync="TRUE">0</chkPtAv>
<cornerPts>
<pos Sync="TRUE">-20037507.067200 -1921611.519000</pos>
</cornerPts>
<cornerPts>
<pos Sync="TRUE">-20037507.067200 11559848.481000</pos>
</cornerPts>
<cornerPts>
<pos Sync="TRUE">20037507.842788 11559848.481000</pos>
</cornerPts>
<cornerPts>
<pos Sync="TRUE">20037507.842788 -1921611.519000</pos>
</cornerPts>
<centerPt>
<pos Sync="TRUE">0.387794 4819118.481000</pos>
</centerPt>
<axisDimension type="002">
<dimSize Sync="TRUE">4007502</dimSize>
<dimResol>
<value Sync="TRUE" uom="m">9.999999</value>
</dimResol>
</axisDimension>
<axisDimension type="001">
<dimSize Sync="TRUE">1348146</dimSize>
<dimResol>
<value Sync="TRUE" uom="m">10.000000</value>
</dimResol>
</axisDimension>
<ptInPixel>
<PixOrientCd Sync="TRUE" value="001">
</PixOrientCd>
</ptInPixel>
</Georect>
</spatRepInfo>
<eainfo>
<detailed Name="VAT_OCFloodHazardAreas">
<enttyp>
<enttypl Sync="TRUE">VAT_OCFloodHazardAreas</enttypl>
<enttypt Sync="TRUE">Table</enttypt>
<enttypc Sync="TRUE">11</enttypc>
</enttyp>
<attr>
<attrlabl Sync="TRUE">OBJECTID</attrlabl>
<attalias Sync="TRUE">OBJECTID</attalias>
<attrtype Sync="TRUE">OID</attrtype>
<attwidth Sync="TRUE">4</attwidth>
<atprecis Sync="TRUE">0</atprecis>
<attscale Sync="TRUE">0</attscale>
<attrdef Sync="TRUE">Internal feature number.</attrdef>
<attrdefs Sync="TRUE">Esri</attrdefs>
<attrdomv>
<udom Sync="TRUE">Sequential unique whole numbers that are automatically generated.</udom>
</attrdomv>
</attr>
<attr>
<attrlabl Sync="TRUE">Value</attrlabl>
<attalias Sync="TRUE">Value</attalias>
<attrtype Sync="TRUE">SmallInteger</attrtype>
<attwidth Sync="TRUE">2</attwidth>
<atprecis Sync="TRUE">0</atprecis>
<attscale Sync="TRUE">0</attscale>
</attr>
<attr>
<attrlabl Sync="TRUE">Count</attrlabl>
<attalias Sync="TRUE">Count</attalias>
<attrtype Sync="TRUE">Integer</attrtype>
<attwidth Sync="TRUE">4</attwidth>
<atprecis Sync="TRUE">0</atprecis>
<attscale Sync="TRUE">0</attscale>
</attr>
<attr>
<attrlabl Sync="TRUE">ClassName</attrlabl>
<attalias Sync="TRUE">ClassName</attalias>
<attrtype Sync="TRUE">String</attrtype>
<attwidth Sync="TRUE">128</attwidth>
<atprecis Sync="TRUE">0</atprecis>
<attscale Sync="TRUE">0</attscale>
</attr>
<attr>
<attrlabl Sync="TRUE">Red</attrlabl>
<attalias Sync="TRUE">Red</attalias>
<attrtype Sync="TRUE">SmallInteger</attrtype>
<attwidth Sync="TRUE">2</attwidth>
<atprecis Sync="TRUE">0</atprecis>
<attscale Sync="TRUE">0</attscale>
</attr>
<attr>
<attrlabl Sync="TRUE">Green</attrlabl>
<attalias Sync="TRUE">Green</attalias>
<attrtype Sync="TRUE">SmallInteger</attrtype>
<attwidth Sync="TRUE">2</attwidth>
<atprecis Sync="TRUE">0</atprecis>
<attscale Sync="TRUE">0</attscale>
</attr>
<attr>
<attrlabl Sync="TRUE">Blue</attrlabl>
<attalias Sync="TRUE">Blue</attalias>
<attrtype Sync="TRUE">SmallInteger</attrtype>
<attwidth Sync="TRUE">2</attwidth>
<atprecis Sync="TRUE">0</atprecis>
<attscale Sync="TRUE">0</attscale>
</attr>
<attr>
<attrlabl Sync="TRUE">esri_index</attrlabl>
<attalias Sync="TRUE">Esri Index Number</attalias>
<attrtype Sync="TRUE">SmallInteger</attrtype>
<attwidth Sync="TRUE">2</attwidth>
<atprecis Sync="TRUE">0</atprecis>
<attscale Sync="TRUE">0</attscale>
</attr>
<attr>
<attrlabl Sync="TRUE">esri_oldindex</attrlabl>
<attalias Sync="TRUE">Esri Symbology Number</attalias>
<attrtype Sync="TRUE">SmallInteger</attrtype>
<attwidth Sync="TRUE">2</attwidth>
<atprecis Sync="TRUE">0</atprecis>
<attscale Sync="TRUE">0</attscale>
</attr>
<attr>
<attrlabl Sync="TRUE">esri_symbology</attrlabl>
<attalias Sync="TRUE">Esri Symbology</attalias>
<attrtype Sync="TRUE">String</attrtype>
<attwidth Sync="TRUE">50</attwidth>
<atprecis Sync="TRUE">0</atprecis>
<attscale Sync="TRUE">0</attscale>
</attr>
<attr>
<attrlabl Sync="TRUE">PopupText</attrlabl>
<attalias Sync="TRUE">Popup Text</attalias>
<attrtype Sync="TRUE">String</attrtype>
<attwidth Sync="TRUE">128</attwidth>
<atprecis Sync="TRUE">0</atprecis>
<attscale Sync="TRUE">0</attscale>
</attr>
<attr>
<attrlabl Sync="TRUE">FLD_ZONE</attrlabl>
<attalias Sync="TRUE">Flood Zone</attalias>
<attrtype Sync="TRUE">String</attrtype>
<attwidth Sync="TRUE">17</attwidth>
<atprecis Sync="TRUE">0</atprecis>
<attscale Sync="TRUE">0</attscale>
</attr>
<attr>
<attrlabl Sync="TRUE">ZONE_SUBTY</attrlabl>
<attalias Sync="TRUE">Flood Zone Subtype</attalias>
<attrtype Sync="TRUE">String</attrtype>
<attwidth Sync="TRUE">80</attwidth>
<atprecis Sync="TRUE">0</atprecis>
<attscale Sync="TRUE">0</attscale>
</attr>
<attr>
<attrlabl Sync="TRUE">SFHA_TF</attrlabl>
<attalias Sync="TRUE">Special Flood Hazard Area</attalias>
<attrtype Sync="TRUE">String</attrtype>
<attwidth Sync="TRUE">1</attwidth>
<atprecis Sync="TRUE">0</atprecis>
<attscale Sync="TRUE">0</attscale>
</attr>
<attr>
<attrlabl Sync="TRUE">ORIG_FID</attrlabl>
<attalias Sync="TRUE">ORIG_FID</attalias>
<attrtype Sync="TRUE">Integer</attrtype>
<attwidth Sync="TRUE">4</attwidth>
<atprecis Sync="TRUE">0</atprecis>
<attscale Sync="TRUE">0</attscale>
</attr>
</detailed>
</eainfo>
<contInfo>
<ImgDesc>
<contentTyp>
<ContentTypCd Sync="TRUE" value="001">
</ContentTypCd>
</contentTyp>
<covDim>
<Band>
<dimDescrp Sync="TRUE">Band_1</dimDescrp>
<maxVal Sync="TRUE">83.000000</maxVal>
<minVal Sync="TRUE">2.000000</minVal>
<bitsPerVal Sync="TRUE">8</bitsPerVal>
<valUnit>
<UOM type="length">
</UOM>
</valUnit>
</Band>
</covDim>
</ImgDesc>
</contInfo>
<mdDateSt Sync="TRUE">20260310</mdDateSt>
<mdHrLv>
<ScopeCd value="005">
</ScopeCd>
</mdHrLv>
<idinfo>
<citation>
<citeinfo>
<origin>Source: FEMA, Esri</origin>
</citeinfo>
</citation>
<descript>
<abstract>This service is available to all ArcGIS Online users with organizational accounts. For more information on this service, including the terms of use, visit us online at &lt;a href="https://goto.arcgisonline.com/landscape11/USA_Flood_Hazard_Areas"&gt;https://goto.arcgisonline.com/landscape11/USA_Flood_Hazard_Areas&lt;/a&gt;.</abstract>
</descript>
</idinfo>
<distInfo>
<distFormat>
<formatName Sync="TRUE">File Geodatabase Raster Dataset</formatName>
</distFormat>
</distInfo>
<mdHrLvName Sync="TRUE">dataset</mdHrLvName>
<spdoinfo>
<rastinfo>
<rasttype Sync="TRUE">Pixel</rasttype>
<rowcount Sync="TRUE">7498</rowcount>
<colcount Sync="TRUE">7870</colcount>
<rastxsz Sync="TRUE">9.999999</rastxsz>
<rastysz Sync="TRUE">10.000000</rastysz>
<rastbpp Sync="TRUE">8</rastbpp>
<vrtcount Sync="TRUE">1</vrtcount>
<rastorig Sync="TRUE">Upper Left</rastorig>
<rastcmap Sync="TRUE">FALSE</rastcmap>
<rastcomp Sync="TRUE">LZ77</rastcomp>
<rastband Sync="TRUE">1</rastband>
<rastdtyp Sync="TRUE">pixel codes</rastdtyp>
<rastifor Sync="TRUE">FGDBR</rastifor>
<rastplyr Sync="TRUE">TRUE</rastplyr>
</rastinfo>
</spdoinfo>
<spref>
<horizsys>
<planar>
<planci>
<plance Sync="TRUE">row and column</plance>
<coordrep>
<absres Sync="TRUE">9.999999</absres>
<ordres Sync="TRUE">10.000000</ordres>
</coordrep>
</planci>
</planar>
</horizsys>
</spref>
</metadata>
