<?xml version="1.0" encoding="UTF-8" standalone="no"?>
<metadata xml:lang="en">
<Esri>
<CreaDate>20220112</CreaDate>
<CreaTime>13002200</CreaTime>
<ArcGISFormat>1.0</ArcGISFormat>
<SyncOnce>FALSE</SyncOnce>
<DataProperties>
<itemProps>
<itemName Sync="TRUE">Illicit_Discharge_DEM.tif</itemName>
<itemLocation>
<linkage Sync="TRUE">file://\\10.108.8.15\OC Survey\OCS Projects\Illicit Discharge 2016\Final Products\Illicit_Discharge_DEM.tif</linkage>
<protocol Sync="TRUE">Local Area Network</protocol>
</itemLocation>
<imsContentType Sync="TRUE">002</imsContentType>
<nativeExtBox>
<westBL Sync="TRUE">6093237.000000</westBL>
<eastBL Sync="TRUE">6165246.000000</eastBL>
<southBL Sync="TRUE">2090799.000000</southBL>
<northBL Sync="TRUE">2195061.000000</northBL>
<exTypeCode Sync="TRUE">1</exTypeCode>
</nativeExtBox>
</itemProps>
<coordRef>
<type Sync="TRUE">Projected</type>
<geogcsn Sync="TRUE">GCS_North_American_1983</geogcsn>
<csUnits Sync="TRUE">Linear Unit: Foot_US (0.304801)</csUnits>
<projcsn Sync="TRUE">NAD_1983_StatePlane_California_VI_FIPS_0406</projcsn>
<peXml Sync="TRUE">&lt;ProjectedCoordinateSystem xsi:type='typens:ProjectedCoordinateSystem' xmlns:xsi='http://www.w3.org/2001/XMLSchema-instance' xmlns:xs='http://www.w3.org/2001/XMLSchema' xmlns:typens='http://www.esri.com/schemas/ArcGIS/10.5'&gt;&lt;WKT&gt;PROJCS[&amp;quot;NAD_1983_StatePlane_California_VI_FIPS_0406&amp;quot;,GEOGCS[&amp;quot;GCS_North_American_1983&amp;quot;,DATUM[&amp;quot;D_North_American_1983&amp;quot;,SPHEROID[&amp;quot;GRS_1980&amp;quot;,6378137.0,298.257222101]],PRIMEM[&amp;quot;Greenwich&amp;quot;,0.0],UNIT[&amp;quot;Degree&amp;quot;,0.0174532925199433]],PROJECTION[&amp;quot;Lambert_Conformal_Conic&amp;quot;],PARAMETER[&amp;quot;false_easting&amp;quot;,6561666.666666667],PARAMETER[&amp;quot;false_northing&amp;quot;,1640416.666666667],PARAMETER[&amp;quot;central_meridian&amp;quot;,-116.25],PARAMETER[&amp;quot;standard_parallel_1&amp;quot;,32.78333333333333],PARAMETER[&amp;quot;standard_parallel_2&amp;quot;,33.88333333333333],PARAMETER[&amp;quot;latitude_of_origin&amp;quot;,32.16666666666666],UNIT[&amp;quot;Foot_US&amp;quot;,0.3048006096012192]]&lt;/WKT&gt;&lt;XOrigin&gt;-118608900&lt;/XOrigin&gt;&lt;YOrigin&gt;-91259500&lt;/YOrigin&gt;&lt;XYScale&gt;35979706.307677768&lt;/XYScale&gt;&lt;ZOrigin&gt;-100000&lt;/ZOrigin&gt;&lt;ZScale&gt;10000&lt;/ZScale&gt;&lt;MOrigin&gt;-100000&lt;/MOrigin&gt;&lt;MScale&gt;10000&lt;/MScale&gt;&lt;XYTolerance&gt;0.0032808333333333331&lt;/XYTolerance&gt;&lt;ZTolerance&gt;0.001&lt;/ZTolerance&gt;&lt;MTolerance&gt;0.001&lt;/MTolerance&gt;&lt;HighPrecision&gt;true&lt;/HighPrecision&gt;&lt;/ProjectedCoordinateSystem&gt;</peXml>
</coordRef>
<RasterProperties>
<General>
<PixelDepth Sync="TRUE">32</PixelDepth>
<HasColormap Sync="TRUE">FALSE</HasColormap>
<CompressionType Sync="TRUE">LZW</CompressionType>
<NumBands Sync="TRUE">1</NumBands>
<Format Sync="TRUE">TIFF</Format>
<HasPyramids Sync="TRUE">TRUE</HasPyramids>
<SourceType Sync="TRUE">continuous</SourceType>
<PixelType Sync="TRUE">floating point</PixelType>
<NoDataValue Sync="TRUE">-3.4028235e+038</NoDataValue>
</General>
</RasterProperties>
<lineage>
<Process Date="20170502" Time="120317" ToolSource="c:\program files (x86)\arcgis\desktop10.5\ArcToolbox\Toolboxes\Data Management Tools.tbx\MosaicToNewRaster">MosaicToNewRaster '\\10.108.8.15\OC Survey\OCS Projects\Illicit Discharge 2016\Rasters\Bare_Earth\be_aliso_c';'\\10.108.8.15\OC Survey\OCS Projects\Illicit Discharge 2016\Rasters\Bare_Earth\be_aliso_n';'\\10.108.8.15\OC Survey\OCS Projects\Illicit Discharge 2016\Rasters\Bare_Earth\be_aliso_s';'\\10.108.8.15\OC Survey\OCS Projects\Illicit Discharge 2016\Rasters\Bare_Earth\be_bell';'\\10.108.8.15\OC Survey\OCS Projects\Illicit Discharge 2016\Rasters\Bare_Earth\be_bluebird';'\\10.108.8.15\OC Survey\OCS Projects\Illicit Discharge 2016\Rasters\Bare_Earth\be_channel_1';'\\10.108.8.15\OC Survey\OCS Projects\Illicit Discharge 2016\Rasters\Bare_Earth\be_channel_2';'\\10.108.8.15\OC Survey\OCS Projects\Illicit Discharge 2016\Rasters\Bare_Earth\be_channel_3';'\\10.108.8.15\OC Survey\OCS Projects\Illicit Discharge 2016\Rasters\Bare_Earth\be_channel_4';'\\10.108.8.15\OC Survey\OCS Projects\Illicit Discharge 2016\Rasters\Bare_Earth\be_channel_5';'\\10.108.8.15\OC Survey\OCS Projects\Illicit Discharge 2016\Rasters\Bare_Earth\be_channel_6';'\\10.108.8.15\OC Survey\OCS Projects\Illicit Discharge 2016\Rasters\Bare_Earth\be_channel_7';'\\10.108.8.15\OC Survey\OCS Projects\Illicit Discharge 2016\Rasters\Bare_Earth\be_channel_8';'\\10.108.8.15\OC Survey\OCS Projects\Illicit Discharge 2016\Rasters\Bare_Earth\be_channel_9';'\\10.108.8.15\OC Survey\OCS Projects\Illicit Discharge 2016\Rasters\Bare_Earth\be_dove';'\\10.108.8.15\OC Survey\OCS Projects\Illicit Discharge 2016\Rasters\Bare_Earth\be_english';'\\10.108.8.15\OC Survey\OCS Projects\Illicit Discharge 2016\Rasters\Bare_Earth\be_gober';'\\10.108.8.15\OC Survey\OCS Projects\Illicit Discharge 2016\Rasters\Bare_Earth\be_hobo';'\\10.108.8.15\OC Survey\OCS Projects\Illicit Discharge 2016\Rasters\Bare_Earth\be_horno';'\\10.108.8.15\OC Survey\OCS Projects\Illicit Discharge 2016\Rasters\Bare_Earth\be_laguna';'\\10.108.8.15\OC Survey\OCS Projects\Illicit Discharge 2016\Rasters\Bare_Earth\be_oso_n';'\\10.108.8.15\OC Survey\OCS Projects\Illicit Discharge 2016\Rasters\Bare_Earth\be_oso_s';'\\10.108.8.15\OC Survey\OCS Projects\Illicit Discharge 2016\Rasters\Bare_Earth\be_pacific';'\\10.108.8.15\OC Survey\OCS Projects\Illicit Discharge 2016\Rasters\Bare_Earth\be_prima_n';'\\10.108.8.15\OC Survey\OCS Projects\Illicit Discharge 2016\Rasters\Bare_Earth\be_prima_s';'\\10.108.8.15\OC Survey\OCS Projects\Illicit Discharge 2016\Rasters\Bare_Earth\be_rim_rock';'\\10.108.8.15\OC Survey\OCS Projects\Illicit Discharge 2016\Rasters\Bare_Earth\be_salado';'\\10.108.8.15\OC Survey\OCS Projects\Illicit Discharge 2016\Rasters\Bare_Earth\be_salt_creek';'\\10.108.8.15\OC Survey\OCS Projects\Illicit Discharge 2016\Rasters\Bare_Earth\be_segunda_n';'\\10.108.8.15\OC Survey\OCS Projects\Illicit Discharge 2016\Rasters\Bare_Earth\be_segunda_s';'\\10.108.8.15\OC Survey\OCS Projects\Illicit Discharge 2016\Rasters\Bare_Earth\be_sj_can';'\\10.108.8.15\OC Survey\OCS Projects\Illicit Discharge 2016\Rasters\Bare_Earth\be_sj_crk_e';'\\10.108.8.15\OC Survey\OCS Projects\Illicit Discharge 2016\Rasters\Bare_Earth\be_sj_crk_w';'\\10.108.8.15\OC Survey\OCS Projects\Illicit Discharge 2016\Rasters\Bare_Earth\be_sulphur';'\\10.108.8.15\OC Survey\OCS Projects\Illicit Discharge 2016\Rasters\Bare_Earth\be_tijeras';'\\10.108.8.15\OC Survey\OCS Projects\Illicit Discharge 2016\Rasters\Bare_Earth\be_trabuco_c';'\\10.108.8.15\OC Survey\OCS Projects\Illicit Discharge 2016\Rasters\Bare_Earth\be_trabuco_n';'\\10.108.8.15\OC Survey\OCS Projects\Illicit Discharge 2016\Rasters\Bare_Earth\be_trabuco_s';'\\10.108.8.15\OC Survey\OCS Projects\Illicit Discharge 2016\Rasters\Bare_Earth\be_wood' "\\10.108.8.15\OC Survey\OCS Projects\Illicit Discharge 2016\Rasters\Bare_Earth" Illicit_Discharge_DEM.tif PROJCS['NAD_1983_StatePlane_California_VI_FIPS_0406_Feet',GEOGCS['GCS_North_American_1983',DATUM['D_North_American_1983',SPHEROID['GRS_1980',6378137.0,298.257222101]],PRIMEM['Greenwich',0.0],UNIT['Degree',0.0174532925199433]],PROJECTION['Lambert_Conformal_Conic'],PARAMETER['False_Easting',6561666.666666666],PARAMETER['False_Northing',1640416.666666667],PARAMETER['Central_Meridian',-116.25],PARAMETER['Standard_Parallel_1',32.78333333333333],PARAMETER['Standard_Parallel_2',33.88333333333333],PARAMETER['Latitude_Of_Origin',32.16666666666666],UNIT['Foot_US',0.3048006096012192]] 32_BIT_FLOAT # 1 LAST FIRST</Process>
</lineage>
<copyHistory>
<copy date="20220112" dest="\\10.108.8.15\OC Survey\OCS Projects\Illicit Discharge 2016\Final Products\Illicit_Discharge_DEM.tif" source="\\10.108.8.15\Images\Illicit_Discharge_2016\Bare_Earth\Illicit_Discharge_DEM.tif" time="13002200"/>
</copyHistory>
</DataProperties>
<SyncDate>20170502</SyncDate>
<SyncTime>12031300</SyncTime>
<ModDate>20170502</ModDate>
<ModTime>12031300</ModTime>
</Esri>
<dataIdInfo>
<envirDesc Sync="TRUE">Microsoft Windows 7 Version 6.1 (Build 7601) Service Pack 1; Esri ArcGIS 10.5.0.6491</envirDesc>
<dataLang>
<languageCode Sync="TRUE" value="eng"/>
<countryCode Sync="TRUE" value="USA"/>
</dataLang>
<idCitation>
<resTitle Sync="TRUE">Illicit_Discharge_Bare_Earth_DEM_2016</resTitle>
<presForm>
<PresFormCd Sync="TRUE" value="005"/>
</presForm>
</idCitation>
<spatRpType>
<SpatRepTypCd Sync="TRUE" value="002"/>
</spatRpType>
<dataExt>
<geoEle>
<GeoBndBox esriExtentType="search">
<exTypeCode Sync="TRUE">1</exTypeCode>
<westBL Sync="TRUE">-117.789843</westBL>
<eastBL Sync="TRUE">-117.548889</eastBL>
<northBL Sync="TRUE">33.684202</northBL>
<southBL Sync="TRUE">33.395004</southBL>
</GeoBndBox>
</geoEle>
</dataExt>
<idAbs/>
<searchKeys>
<keyword>LIDAR</keyword>
</searchKeys>
<idPurp>South OC Stream Survey, 2016 Bare Earth DEM</idPurp>
<idCredit/>
<resConst>
<Consts>
<useLimit/>
</Consts>
</resConst>
</dataIdInfo>
<mdLang>
<languageCode Sync="TRUE" value="eng"/>
<countryCode Sync="TRUE" value="USA"/>
</mdLang>
<mdChar>
<CharSetCd Sync="TRUE" value="004"/>
</mdChar>
<distInfo>
<distFormat>
<formatName Sync="TRUE">Raster Dataset</formatName>
</distFormat>
</distInfo>
<mdHrLv>
<ScopeCd Sync="TRUE" value="005"/>
</mdHrLv>
<mdHrLvName Sync="TRUE">dataset</mdHrLvName>
<refSysInfo>
<RefSystem>
<refSysID>
<identCode Sync="TRUE" code="0"/>
</refSysID>
</RefSystem>
</refSysInfo>
<spatRepInfo>
<Georect>
<cellGeo>
<CellGeoCd Sync="TRUE" value="002"/>
</cellGeo>
<numDims Sync="TRUE">2</numDims>
<tranParaAv Sync="TRUE">1</tranParaAv>
<chkPtAv Sync="TRUE">0</chkPtAv>
<cornerPts>
<pos Sync="TRUE">6093237.000000 2090799.000000</pos>
</cornerPts>
<cornerPts>
<pos Sync="TRUE">6093237.000000 2195061.000000</pos>
</cornerPts>
<cornerPts>
<pos Sync="TRUE">6165246.000000 2195061.000000</pos>
</cornerPts>
<cornerPts>
<pos Sync="TRUE">6165246.000000 2090799.000000</pos>
</cornerPts>
<centerPt>
<pos Sync="TRUE">6129241.500000 2142930.000000</pos>
</centerPt>
<axisDimension type="002">
<dimSize Sync="TRUE">48006</dimSize>
<dimResol>
<value Sync="TRUE" uom="ftUS">1.500000</value>
</dimResol>
</axisDimension>
<axisDimension type="001">
<dimSize Sync="TRUE">69508</dimSize>
<dimResol>
<value Sync="TRUE" uom="ftUS">1.500000</value>
</dimResol>
</axisDimension>
<ptInPixel>
<PixOrientCd Sync="TRUE" value="001"/>
</ptInPixel>
</Georect>
</spatRepInfo>
<contInfo>
<ImgDesc>
<contentTyp>
<ContentTypCd Sync="TRUE" value="001"/>
</contentTyp>
<covDim>
<Band>
<dimDescrp Sync="TRUE">Band_1</dimDescrp>
<maxVal Sync="TRUE">1555.790039</maxVal>
<minVal Sync="TRUE">0.240000</minVal>
<bitsPerVal Sync="TRUE">32</bitsPerVal>
<valUnit>
<UOM type="length"/>
</valUnit>
</Band>
</covDim>
</ImgDesc>
</contInfo>
<mdDateSt Sync="TRUE">20170502</mdDateSt>
</metadata>
